BEGIN:VCALENDAR
VERSION:2.0
PRODID:-//RightStart Mathematics - ECPv6.15.20//NONSGML v1.0//EN
CALSCALE:GREGORIAN
METHOD:PUBLISH
X-WR-CALNAME:RightStart Mathematics
X-ORIGINAL-URL:https://rightstartmath.com
X-WR-CALDESC:Events for RightStart Mathematics
REFRESH-INTERVAL;VALUE=DURATION:PT1H
X-Robots-Tag:noindex
X-PUBLISHED-TTL:PT1H
BEGIN:VTIMEZONE
TZID:UTC
BEGIN:STANDARD
TZOFFSETFROM:+0000
TZOFFSETTO:+0000
TZNAME:UTC
DTSTART:20250101T000000
END:STANDARD
END:VTIMEZONE
BEGIN:VEVENT
DTSTART;VALUE=DATE:20260319
DTEND;VALUE=DATE:20260321
DTSTAMP:20260421T100250
CREATED:20260413T123639Z
LAST-MODIFIED:20260413T123651Z
UID:68519-1773878400-1774051199@rightstartmath.com
SUMMARY:KM/ME: SC-Greenville GHC-SC/SEHC (B)
DESCRIPTION:
URL:https://rightstartmath.com/event/km-me-sc-greenville-ghc-sc-sehc-b/
END:VEVENT
BEGIN:VEVENT
DTSTART;VALUE=DATE:20260319
DTEND;VALUE=DATE:20260322
DTSTAMP:20260421T100250
CREATED:20260413T123259Z
LAST-MODIFIED:20260413T123411Z
UID:68517-1773878400-1774137599@rightstartmath.com
SUMMARY:JAC*: DC-Washington AMS (MONT) ~
DESCRIPTION:
URL:https://rightstartmath.com/event/jac-dc-washington-ams-mont/
END:VEVENT
BEGIN:VEVENT
DTSTART;VALUE=DATE:20260320
DTEND;VALUE=DATE:20260322
DTSTAMP:20260421T100250
CREATED:20260413T123851Z
LAST-MODIFIED:20260413T124143Z
UID:68521-1773964800-1774137599@rightstartmath.com
SUMMARY:KC2: ME-Rockport HOME (D) ~
DESCRIPTION:
URL:https://rightstartmath.com/event/kc2-me-rockport-home-d/
END:VEVENT
END:VCALENDAR