BEGIN:VCALENDAR
VERSION:2.0
PRODID:-//RightStart Mathematics - ECPv6.15.20//NONSGML v1.0//EN
CALSCALE:GREGORIAN
METHOD:PUBLISH
X-WR-CALNAME:RightStart Mathematics
X-ORIGINAL-URL:https://rightstartmath.com
X-WR-CALDESC:Events for RightStart Mathematics
REFRESH-INTERVAL;VALUE=DURATION:PT1H
X-Robots-Tag:noindex
X-PUBLISHED-TTL:PT1H
BEGIN:VTIMEZONE
TZID:UTC
BEGIN:STANDARD
TZOFFSETFROM:+0000
TZOFFSETTO:+0000
TZNAME:UTC
DTSTART:20250101T000000
END:STANDARD
END:VTIMEZONE
BEGIN:VEVENT
DTSTART;VALUE=DATE:20260423
DTEND;VALUE=DATE:20260424
DTSTAMP:20260423T014905
CREATED:20260413T125803Z
LAST-MODIFIED:20260413T125803Z
UID:68541-1776902400-1776988799@rightstartmath.com
SUMMARY:KK: AK-Soldatna IDEA-S (D)
DESCRIPTION:
URL:https://rightstartmath.com/event/kk-ak-soldatna-idea-s-d/
END:VEVENT
BEGIN:VEVENT
DTSTART;VALUE=DATE:20260423
DTEND;VALUE=DATE:20260425
DTSTAMP:20260423T014905
CREATED:20260413T125723Z
LAST-MODIFIED:20260413T125723Z
UID:68538-1776902400-1777075199@rightstartmath.com
SUMMARY:KC2*: MA-Sturgridge MASSHOPE (D)
DESCRIPTION:
URL:https://rightstartmath.com/event/kc2-ma-sturgridge-masshope-d/
END:VEVENT
END:VCALENDAR