BEGIN:VCALENDAR
VERSION:2.0
PRODID:-//RightStart Mathematics - ECPv6.15.20//NONSGML v1.0//EN
CALSCALE:GREGORIAN
METHOD:PUBLISH
X-WR-CALNAME:RightStart Mathematics
X-ORIGINAL-URL:https://rightstartmath.com
X-WR-CALDESC:Events for RightStart Mathematics
REFRESH-INTERVAL;VALUE=DURATION:PT1H
X-Robots-Tag:noindex
X-PUBLISHED-TTL:PT1H
BEGIN:VTIMEZONE
TZID:UTC
BEGIN:STANDARD
TZOFFSETFROM:+0000
TZOFFSETTO:+0000
TZNAME:UTC
DTSTART:20240101T000000
END:STANDARD
END:VTIMEZONE
BEGIN:VEVENT
DTSTART;VALUE=DATE:20260202
DTEND;VALUE=DATE:20260207
DTSTAMP:20260422T003323
CREATED:20260413T114802Z
LAST-MODIFIED:20260413T114802Z
UID:68500-1769990400-1770422399@rightstartmath.com
SUMMARY:KC2: Online COHC ~
DESCRIPTION:
URL:https://rightstartmath.com/event/kc2-online-cohc/
END:VEVENT
BEGIN:VEVENT
DTSTART;TZID=UTC:20250801T080000
DTEND;TZID=UTC:20250801T170000
DTSTAMP:20260422T003323
CREATED:20251128T180054Z
LAST-MODIFIED:20251128T214219Z
UID:22538-1754035200-1754067600@rightstartmath.com
SUMMARY:Southeast Homeschool Expo (SHE) Atlanta\, GA
DESCRIPTION:
URL:https://rightstartmath.com/event/southeast-homeschool-expo-she-atlanta-ga/
LOCATION:The Cobb Galleria Centre\,Galleria ParkwayAtlanta\, GA 30339
END:VEVENT
BEGIN:VEVENT
DTSTART;TZID=UTC:20250725T080000
DTEND;TZID=UTC:20250725T170000
DTSTAMP:20260422T003323
CREATED:20251128T213522Z
LAST-MODIFIED:20251128T213522Z
UID:22553-1753430400-1753462800@rightstartmath.com
SUMMARY:Northern California Homeschool Convention (NCHC) Rocklin\, CA
DESCRIPTION:
URL:https://rightstartmath.com/event/northern-california-homeschool-convention-nchc-rocklin-ca/
LOCATION:Northern California Homeschool Convention
END:VEVENT
BEGIN:VEVENT
DTSTART;TZID=UTC:20250724T080000
DTEND;TZID=UTC:20250724T170000
DTSTAMP:20260422T003323
CREATED:20251128T214135Z
LAST-MODIFIED:20251128T214135Z
UID:22558-1753344000-1753376400@rightstartmath.com
SUMMARY:CMI 2025 Charlotte Mason Institute
DESCRIPTION:
URL:https://rightstartmath.com/event/cmi-2025-charlotte-mason-institute/
END:VEVENT
END:VCALENDAR