BEGIN:VCALENDAR
VERSION:2.0
PRODID:-//RightStart Mathematics - ECPv6.15.20//NONSGML v1.0//EN
CALSCALE:GREGORIAN
METHOD:PUBLISH
X-ORIGINAL-URL:https://rightstartmath.com
X-WR-CALDESC:Events for RightStart Mathematics
REFRESH-INTERVAL;VALUE=DURATION:PT1H
X-Robots-Tag:noindex
X-PUBLISHED-TTL:PT1H
BEGIN:VTIMEZONE
TZID:UTC
BEGIN:STANDARD
TZOFFSETFROM:+0000
TZOFFSETTO:+0000
TZNAME:UTC
DTSTART:20250101T000000
END:STANDARD
END:VTIMEZONE
BEGIN:VEVENT
DTSTART;VALUE=DATE:20260921
DTEND;VALUE=DATE:20260923
DTSTAMP:20260421T191017
CREATED:20260413T134416Z
LAST-MODIFIED:20260413T134416Z
UID:68639-1789948800-1790121599@rightstartmath.com
SUMMARY:KC2: FL-Orlando ALLIANCE
DESCRIPTION:
URL:https://rightstartmath.com/event/kc2-fl-orlando-alliance-2/
END:VEVENT
BEGIN:VEVENT
DTSTART;VALUE=DATE:20260923
DTEND;VALUE=DATE:20260927
DTSTAMP:20260421T191017
CREATED:20260413T134507Z
LAST-MODIFIED:20260413T134507Z
UID:68642-1790121600-1790467199@rightstartmath.com
SUMMARY:NOT ATTEND: FL-Orlando HSLDA
DESCRIPTION:
URL:https://rightstartmath.com/event/not-attend-fl-orlando-hslda/
END:VEVENT
END:VCALENDAR