BEGIN:VCALENDAR
VERSION:2.0
PRODID:-//RightStart Mathematics - ECPv6.15.20//NONSGML v1.0//EN
CALSCALE:GREGORIAN
METHOD:PUBLISH
X-WR-CALNAME:RightStart Mathematics
X-ORIGINAL-URL:https://rightstartmath.com
X-WR-CALDESC:Events for RightStart Mathematics
REFRESH-INTERVAL;VALUE=DURATION:PT1H
X-Robots-Tag:noindex
X-PUBLISHED-TTL:PT1H
BEGIN:VTIMEZONE
TZID:UTC
BEGIN:STANDARD
TZOFFSETFROM:+0000
TZOFFSETTO:+0000
TZNAME:UTC
DTSTART:20250101T000000
END:STANDARD
END:VTIMEZONE
BEGIN:VEVENT
DTSTART;VALUE=DATE:20260202
DTEND;VALUE=DATE:20260207
DTSTAMP:20260421T102343
CREATED:20260413T114802Z
LAST-MODIFIED:20260413T114802Z
UID:68500-1769990400-1770422399@rightstartmath.com
SUMMARY:KC2: Online COHC ~
DESCRIPTION:
URL:https://rightstartmath.com/event/kc2-online-cohc/
END:VEVENT
BEGIN:VEVENT
DTSTART;VALUE=DATE:20260224
DTEND;VALUE=DATE:20260225
DTSTAMP:20260421T102343
CREATED:20260413T120219Z
LAST-MODIFIED:20260413T120219Z
UID:68503-1771891200-1771977599@rightstartmath.com
SUMMARY:SALES MEETING: CA-SanDiego
DESCRIPTION:
URL:https://rightstartmath.com/event/sales-meeting-ca-sandiego/
END:VEVENT
BEGIN:VEVENT
DTSTART;VALUE=DATE:20260226
DTEND;VALUE=DATE:20260228
DTSTAMP:20260421T102343
CREATED:20260413T120458Z
LAST-MODIFIED:20260413T120458Z
UID:68505-1772064000-1772236799@rightstartmath.com
SUMMARY:EG: ND-GrandForks NDHSA (D)
DESCRIPTION:
URL:https://rightstartmath.com/event/eg-nd-grandforks-ndhsa-d/
END:VEVENT
BEGIN:VEVENT
DTSTART;VALUE=DATE:20260227
DTEND;VALUE=DATE:20260228
DTSTAMP:20260421T102343
CREATED:20260413T120826Z
LAST-MODIFIED:20260413T121455Z
UID:68507-1772150400-1772236799@rightstartmath.com
SUMMARY:LK: SK-Regina SHBE (C)
DESCRIPTION:
URL:https://rightstartmath.com/event/lk-sk-regina-shbe-c/
END:VEVENT
END:VCALENDAR